BEGIN:VCALENDAR
VERSION:2.0
PRODID:-//Sheffield Family Life Center - ECPv6.15.20//NONSGML v1.0//EN
CALSCALE:GREGORIAN
METHOD:PUBLISH
X-ORIGINAL-URL:https://sflc.net
X-WR-CALDESC:Events for Sheffield Family Life Center
REFRESH-INTERVAL;VALUE=DURATION:PT1H
X-Robots-Tag:noindex
X-PUBLISHED-TTL:PT1H
BEGIN:VTIMEZONE
TZID:America/Chicago
BEGIN:DAYLIGHT
TZOFFSETFROM:-0600
TZOFFSETTO:-0500
TZNAME:CDT
DTSTART:20240310T080000
END:DAYLIGHT
BEGIN:STANDARD
TZOFFSETFROM:-0500
TZOFFSETTO:-0600
TZNAME:CST
DTSTART:20241103T070000
END:STANDARD
BEGIN:DAYLIGHT
TZOFFSETFROM:-0600
TZOFFSETTO:-0500
TZNAME:CDT
DTSTART:20250309T080000
END:DAYLIGHT
BEGIN:STANDARD
TZOFFSETFROM:-0500
TZOFFSETTO:-0600
TZNAME:CST
DTSTART:20251102T070000
END:STANDARD
BEGIN:DAYLIGHT
TZOFFSETFROM:-0600
TZOFFSETTO:-0500
TZNAME:CDT
DTSTART:20260308T080000
END:DAYLIGHT
BEGIN:STANDARD
TZOFFSETFROM:-0500
TZOFFSETTO:-0600
TZNAME:CST
DTSTART:20261101T070000
END:STANDARD
END:VTIMEZONE
BEGIN:VEVENT
DTSTART;TZID=America/Chicago:20251101T070000
DTEND;TZID=America/Chicago:20251101T120000
DTSTAMP:20260424T182315
CREATED:20250929T191457Z
LAST-MODIFIED:20250929T191457Z
UID:455091-1761980400-1761998400@sflc.net
SUMMARY:Operation Love's Outreach
DESCRIPTION:On the first Saturday of each month (except July and September)\, we come together to provide groceries for families in need. Our amazing volunteers help unload and prepare the food distribution. Want to join the team? Visit: https://sflc.churchcenter.com/people/forms/708688 \nNotes:
URL:https://sflc.net/event/operation-loves-outreach-2/
LOCATION:Youth Center Gym\, 5915 Winner Rd\, Kansas City\, 64127\, United States
CATEGORIES:Outreach
END:VEVENT
BEGIN:VEVENT
DTSTART;TZID=America/Chicago:20251109T090000
DTEND;TZID=America/Chicago:20251109T103000
DTSTAMP:20260424T182315
CREATED:20251107T211322Z
LAST-MODIFIED:20251107T211322Z
UID:455232-1762678800-1762684200@sflc.net
SUMMARY:Sunday Service: 1st Service
DESCRIPTION:Join us every Sunday at 9am or 11am as we gather as a church family to worship\, connect\, and grow in God’s Word. \nRooms: \nSanctuary\nNotes:
URL:https://sflc.net/event/sunday-service-1st-service-8/
CATEGORIES:Services
END:VEVENT
BEGIN:VEVENT
DTSTART;TZID=America/Chicago:20251109T110000
DTEND;TZID=America/Chicago:20251109T123000
DTSTAMP:20260424T182315
CREATED:20251107T211322Z
LAST-MODIFIED:20251107T211322Z
UID:455233-1762686000-1762691400@sflc.net
SUMMARY:Sunday Service: 2nd Service
DESCRIPTION:Join us every Sunday at 9am or 11am as we gather as a church family to worship\, connect\, and grow in God’s Word. \nRooms: \nSanctuary\nNotes:
URL:https://sflc.net/event/sunday-service-2nd-service-8/
CATEGORIES:Services
END:VEVENT
BEGIN:VEVENT
DTSTART;TZID=America/Chicago:20251112T190000
DTEND;TZID=America/Chicago:20251112T203000
DTSTAMP:20260424T182315
CREATED:20251107T211319Z
LAST-MODIFIED:20251107T211319Z
UID:455226-1762974000-1762979400@sflc.net
SUMMARY:Wednesday Night Family Services
DESCRIPTION:Join us every Wednesday night as we gather as a church family to worship\, connect\, and grow in God’s Word. We have something for the entire family — Bible Study\, Kids\, Youth\, Young Adults\, and a Marriage class. \nNotes:
URL:https://sflc.net/event/wednesday-night-family-services-9/
CATEGORIES:Services
END:VEVENT
BEGIN:VEVENT
DTSTART;TZID=America/Chicago:20251115T090000
DTEND;TZID=America/Chicago:20251115T100000
DTSTAMP:20260424T182315
CREATED:20250929T191457Z
LAST-MODIFIED:20251113T205053Z
UID:455092-1763197200-1763200800@sflc.net
SUMMARY:3rd Saturday Corporate Prayer
DESCRIPTION:Every 3rd Saturday of the month\, we gather in faith to pray over our church\, our community\, and the many needs around us. We’d love for you to join us. \nNotes:
URL:https://sflc.net/event/3rd-saturday-corporate-prayer-3/
CATEGORIES:PCO
END:VEVENT
BEGIN:VEVENT
DTSTART;TZID=America/Chicago:20251116T090000
DTEND;TZID=America/Chicago:20251116T103000
DTSTAMP:20260424T182315
CREATED:20251107T211322Z
LAST-MODIFIED:20251113T205046Z
UID:455234-1763283600-1763289000@sflc.net
SUMMARY:Sunday Service: 1st Service
DESCRIPTION:Join us every Sunday at 9am or 11am as we gather as a church family to worship\, connect\, and grow in God’s Word. \nRooms: \nSanctuary\nNotes:
URL:https://sflc.net/event/sunday-service-1st-service-9/
CATEGORIES:PCO,Services
END:VEVENT
BEGIN:VEVENT
DTSTART;TZID=America/Chicago:20251116T110000
DTEND;TZID=America/Chicago:20251116T123000
DTSTAMP:20260424T182315
CREATED:20251107T211322Z
LAST-MODIFIED:20251113T205046Z
UID:455235-1763290800-1763296200@sflc.net
SUMMARY:Sunday Service: 2nd Service
DESCRIPTION:Join us every Sunday at 9am or 11am as we gather as a church family to worship\, connect\, and grow in God’s Word. \nRooms: \nSanctuary\nNotes:
URL:https://sflc.net/event/sunday-service-2nd-service-9/
CATEGORIES:PCO,Services
END:VEVENT
BEGIN:VEVENT
DTSTART;TZID=America/Chicago:20251119T190000
DTEND;TZID=America/Chicago:20251119T203000
DTSTAMP:20260424T182315
CREATED:20251107T211320Z
LAST-MODIFIED:20251107T211320Z
UID:455227-1763578800-1763584200@sflc.net
SUMMARY:Wednesday Night Family Services
DESCRIPTION:Join us every Wednesday night as we gather as a church family to worship\, connect\, and grow in God’s Word. We have something for the entire family — Bible Study\, Kids\, Youth\, Young Adults\, and a Marriage class. \nNotes:
URL:https://sflc.net/event/wednesday-night-family-services-10/
CATEGORIES:Services
END:VEVENT
BEGIN:VEVENT
DTSTART;TZID=America/Chicago:20251122T120000
DTEND;TZID=America/Chicago:20251122T140000
DTSTAMP:20260424T182315
CREATED:20251113T205054Z
LAST-MODIFIED:20251113T205440Z
UID:455323-1763812800-1763820000@sflc.net
SUMMARY:Fresh Fruits & Vegetables Giveaway
DESCRIPTION:Notes:
URL:https://sflc.net/event/fresh-fruits-vegetables-giveaway/
CATEGORIES:Special Events
ATTACH;FMTTYPE=image/jpeg:https://sflc.net/wp-content/uploads/2025/11/Fresh-Fruits-Vegetables-Giveaway-logo.jpeg
END:VEVENT
BEGIN:VEVENT
DTSTART;TZID=America/Chicago:20251123T090000
DTEND;TZID=America/Chicago:20251123T103000
DTSTAMP:20260424T182315
CREATED:20251107T211322Z
LAST-MODIFIED:20251113T205046Z
UID:455236-1763888400-1763893800@sflc.net
SUMMARY:Sunday Service: 1st Service
DESCRIPTION:Join us every Sunday at 9am or 11am as we gather as a church family to worship\, connect\, and grow in God’s Word. \nRooms: \nSanctuary\nNotes:
URL:https://sflc.net/event/sunday-service-1st-service-10/
CATEGORIES:PCO,Services
END:VEVENT
BEGIN:VEVENT
DTSTART;TZID=America/Chicago:20251123T110000
DTEND;TZID=America/Chicago:20251123T123000
DTSTAMP:20260424T182315
CREATED:20251107T211323Z
LAST-MODIFIED:20251113T205047Z
UID:455237-1763895600-1763901000@sflc.net
SUMMARY:Sunday Service: 2nd Service
DESCRIPTION:Join us every Sunday at 9am or 11am as we gather as a church family to worship\, connect\, and grow in God’s Word. \nRooms: \nSanctuary\nNotes:
URL:https://sflc.net/event/sunday-service-2nd-service-10/
CATEGORIES:PCO,Services
END:VEVENT
BEGIN:VEVENT
DTSTART;TZID=America/Chicago:20251126T190000
DTEND;TZID=America/Chicago:20251126T203000
DTSTAMP:20260424T182315
CREATED:20251107T211320Z
LAST-MODIFIED:20251107T211320Z
UID:455228-1764183600-1764189000@sflc.net
SUMMARY:Wednesday Night Family Services
DESCRIPTION:Join us every Wednesday night as we gather as a church family to worship\, connect\, and grow in God’s Word. We have something for the entire family — Bible Study\, Kids\, Youth\, Young Adults\, and a Marriage class. \nNotes:
URL:https://sflc.net/event/wednesday-night-family-services-11/
CATEGORIES:Services
END:VEVENT
BEGIN:VEVENT
DTSTART;TZID=America/Chicago:20251130T090000
DTEND;TZID=America/Chicago:20251130T103000
DTSTAMP:20260424T182315
CREATED:20251107T211323Z
LAST-MODIFIED:20251113T205047Z
UID:455238-1764493200-1764498600@sflc.net
SUMMARY:Sunday Service: 1st Service
DESCRIPTION:Join us every Sunday at 9am or 11am as we gather as a church family to worship\, connect\, and grow in God’s Word. \nRooms: \nSanctuary\nNotes:
URL:https://sflc.net/event/sunday-service-1st-service-11/
CATEGORIES:PCO,Services
END:VEVENT
BEGIN:VEVENT
DTSTART;TZID=America/Chicago:20251130T110000
DTEND;TZID=America/Chicago:20251130T123000
DTSTAMP:20260424T182315
CREATED:20251107T211323Z
LAST-MODIFIED:20251113T205047Z
UID:455239-1764500400-1764505800@sflc.net
SUMMARY:Sunday Service: 2nd Service
DESCRIPTION:Join us every Sunday at 9am or 11am as we gather as a church family to worship\, connect\, and grow in God’s Word. \nRooms: \nSanctuary\nNotes:
URL:https://sflc.net/event/sunday-service-2nd-service-11/
CATEGORIES:PCO,Services
END:VEVENT
END:VCALENDAR