BEGIN:VCALENDAR
VERSION:2.0
PRODID:-//Sheffield Family Life Center - ECPv6.15.20//NONSGML v1.0//EN
CALSCALE:GREGORIAN
METHOD:PUBLISH
X-WR-CALNAME:Sheffield Family Life Center
X-ORIGINAL-URL:https://sflc.net
X-WR-CALDESC:Events for Sheffield Family Life Center
REFRESH-INTERVAL;VALUE=DURATION:PT1H
X-Robots-Tag:noindex
X-PUBLISHED-TTL:PT1H
BEGIN:VTIMEZONE
TZID:America/Chicago
BEGIN:DAYLIGHT
TZOFFSETFROM:-0600
TZOFFSETTO:-0500
TZNAME:CDT
DTSTART:20250309T080000
END:DAYLIGHT
BEGIN:STANDARD
TZOFFSETFROM:-0500
TZOFFSETTO:-0600
TZNAME:CST
DTSTART:20251102T070000
END:STANDARD
BEGIN:DAYLIGHT
TZOFFSETFROM:-0600
TZOFFSETTO:-0500
TZNAME:CDT
DTSTART:20260308T080000
END:DAYLIGHT
BEGIN:STANDARD
TZOFFSETFROM:-0500
TZOFFSETTO:-0600
TZNAME:CST
DTSTART:20261101T070000
END:STANDARD
BEGIN:DAYLIGHT
TZOFFSETFROM:-0600
TZOFFSETTO:-0500
TZNAME:CDT
DTSTART:20270314T080000
END:DAYLIGHT
BEGIN:STANDARD
TZOFFSETFROM:-0500
TZOFFSETTO:-0600
TZNAME:CST
DTSTART:20271107T070000
END:STANDARD
END:VTIMEZONE
BEGIN:VEVENT
DTSTART;TZID=America/Chicago:20260531T090000
DTEND;TZID=America/Chicago:20260531T103000
DTSTAMP:20260424T163542
CREATED:20260310T194713Z
LAST-MODIFIED:20260310T194713Z
UID:455468-1780218000-1780223400@sflc.net
SUMMARY:Sunday Service: 1st Service
DESCRIPTION:Join us every Sunday at 9am or 11am as we gather as a church family to worship\, connect\, and grow in God’s Word. \nRooms: \nSanctuary\nNotes:
URL:https://sflc.net/event/sunday-service-1st-service-37/
CATEGORIES:PCO
END:VEVENT
BEGIN:VEVENT
DTSTART;TZID=America/Chicago:20260531T110000
DTEND;TZID=America/Chicago:20260531T123000
DTSTAMP:20260424T163542
CREATED:20260310T194714Z
LAST-MODIFIED:20260310T194714Z
UID:455469-1780225200-1780230600@sflc.net
SUMMARY:Sunday Service: 2nd Service
DESCRIPTION:Join us every Sunday at 9am or 11am as we gather as a church family to worship\, connect\, and grow in God’s Word. \nRooms: \nSanctuary\nNotes:
URL:https://sflc.net/event/sunday-service-2nd-service-37/
CATEGORIES:PCO
END:VEVENT
BEGIN:VEVENT
DTSTART;TZID=America/Chicago:20260603T190000
DTEND;TZID=America/Chicago:20260603T203000
DTSTAMP:20260424T163542
CREATED:20260310T194656Z
LAST-MODIFIED:20260310T194656Z
UID:455447-1780513200-1780518600@sflc.net
SUMMARY:Wednesday Night Family Services
DESCRIPTION:Join us every Wednesday night as we gather as a church family to worship\, connect\, and grow in God’s Word. We have something for the entire family — Prayer\, Kids\, Youth\, Young Adults\, and a Marriage class. \nNotes:
URL:https://sflc.net/event/wednesday-night-family-services-36/
CATEGORIES:PCO
END:VEVENT
BEGIN:VEVENT
DTSTART;TZID=America/Chicago:20260606T070000
DTEND;TZID=America/Chicago:20260606T120000
DTSTAMP:20260424T163542
CREATED:20260310T194718Z
LAST-MODIFIED:20260310T194718Z
UID:455474-1780729200-1780747200@sflc.net
SUMMARY:Operation Love's Outreach
DESCRIPTION:On the first Saturday of each month (except July and September)\, we come together to provide groceries for families in need. Our amazing volunteers help unload and prepare the food distribution. Want to join the team? Visit: https://sflc.churchcenter.com/people/forms/708688 \nNotes:
URL:https://sflc.net/event/operation-loves-outreach-9/
CATEGORIES:PCO
END:VEVENT
BEGIN:VEVENT
DTSTART;TZID=America/Chicago:20260607T090000
DTEND;TZID=America/Chicago:20260607T103000
DTSTAMP:20260424T163542
CREATED:20260310T194715Z
LAST-MODIFIED:20260310T194715Z
UID:455470-1780822800-1780828200@sflc.net
SUMMARY:Sunday Service: 1st Service
DESCRIPTION:Join us every Sunday at 9am or 11am as we gather as a church family to worship\, connect\, and grow in God’s Word. \nRooms: \nSanctuary\nNotes:
URL:https://sflc.net/event/sunday-service-1st-service-38/
CATEGORIES:PCO
END:VEVENT
BEGIN:VEVENT
DTSTART;TZID=America/Chicago:20260607T110000
DTEND;TZID=America/Chicago:20260607T123000
DTSTAMP:20260424T163542
CREATED:20260310T194716Z
LAST-MODIFIED:20260310T194716Z
UID:455471-1780830000-1780835400@sflc.net
SUMMARY:Sunday Service: 2nd Service
DESCRIPTION:Join us every Sunday at 9am or 11am as we gather as a church family to worship\, connect\, and grow in God’s Word. \nRooms: \nSanctuary\nNotes:
URL:https://sflc.net/event/sunday-service-2nd-service-38/
CATEGORIES:PCO
END:VEVENT
END:VCALENDAR