BEGIN:VCALENDAR
VERSION:2.0
PRODID:-//Sheffield Family Life Center - ECPv6.15.20//NONSGML v1.0//EN
CALSCALE:GREGORIAN
METHOD:PUBLISH
X-WR-CALNAME:Sheffield Family Life Center
X-ORIGINAL-URL:https://sflc.net
X-WR-CALDESC:Events for Sheffield Family Life Center
REFRESH-INTERVAL;VALUE=DURATION:PT1H
X-Robots-Tag:noindex
X-PUBLISHED-TTL:PT1H
BEGIN:VTIMEZONE
TZID:America/Chicago
BEGIN:DAYLIGHT
TZOFFSETFROM:-0600
TZOFFSETTO:-0500
TZNAME:CDT
DTSTART:20250309T080000
END:DAYLIGHT
BEGIN:STANDARD
TZOFFSETFROM:-0500
TZOFFSETTO:-0600
TZNAME:CST
DTSTART:20251102T070000
END:STANDARD
BEGIN:DAYLIGHT
TZOFFSETFROM:-0600
TZOFFSETTO:-0500
TZNAME:CDT
DTSTART:20260308T080000
END:DAYLIGHT
BEGIN:STANDARD
TZOFFSETFROM:-0500
TZOFFSETTO:-0600
TZNAME:CST
DTSTART:20261101T070000
END:STANDARD
BEGIN:DAYLIGHT
TZOFFSETFROM:-0600
TZOFFSETTO:-0500
TZNAME:CDT
DTSTART:20270314T080000
END:DAYLIGHT
BEGIN:STANDARD
TZOFFSETFROM:-0500
TZOFFSETTO:-0600
TZNAME:CST
DTSTART:20271107T070000
END:STANDARD
END:VTIMEZONE
BEGIN:VEVENT
DTSTART;TZID=America/Chicago:20260107T190000
DTEND;TZID=America/Chicago:20260107T203000
DTSTAMP:20260424T201212
CREATED:20251113T205044Z
LAST-MODIFIED:20251113T205044Z
UID:455285-1767812400-1767817800@sflc.net
SUMMARY:Wednesday Night Family Services
DESCRIPTION:Join us every Wednesday night as we gather as a church family to worship\, connect\, and grow in God’s Word. We have something for the entire family — Bible Study\, Kids\, Youth\, Young Adults\, and a Marriage class. \nNotes:
URL:https://sflc.net/event/wednesday-night-family-services-15/
CATEGORIES:PCO
END:VEVENT
BEGIN:VEVENT
DTSTART;TZID=America/Chicago:20260111T090000
DTEND;TZID=America/Chicago:20260111T103000
DTSTAMP:20260424T201212
CREATED:20251113T205050Z
LAST-MODIFIED:20251113T205050Z
UID:455307-1768122000-1768127400@sflc.net
SUMMARY:Sunday Service: 1st Service
DESCRIPTION:Join us every Sunday at 9am or 11am as we gather as a church family to worship\, connect\, and grow in God’s Word. \nRooms: \nSanctuary\nNotes:
URL:https://sflc.net/event/sunday-service-1st-service-17/
CATEGORIES:PCO
END:VEVENT
BEGIN:VEVENT
DTSTART;TZID=America/Chicago:20260111T110000
DTEND;TZID=America/Chicago:20260111T123000
DTSTAMP:20260424T201212
CREATED:20251113T205050Z
LAST-MODIFIED:20251113T205050Z
UID:455308-1768129200-1768134600@sflc.net
SUMMARY:Sunday Service: 2nd Service
DESCRIPTION:Join us every Sunday at 9am or 11am as we gather as a church family to worship\, connect\, and grow in God’s Word. \nRooms: \nSanctuary\nNotes:
URL:https://sflc.net/event/sunday-service-2nd-service-17/
CATEGORIES:PCO
END:VEVENT
BEGIN:VEVENT
DTSTART;TZID=America/Chicago:20260114T190000
DTEND;TZID=America/Chicago:20260114T203000
DTSTAMP:20260424T201212
CREATED:20251113T205045Z
LAST-MODIFIED:20251113T205045Z
UID:455286-1768417200-1768422600@sflc.net
SUMMARY:Wednesday Night Family Services
DESCRIPTION:Join us every Wednesday night as we gather as a church family to worship\, connect\, and grow in God’s Word. We have something for the entire family — Bible Study\, Kids\, Youth\, Young Adults\, and a Marriage class. \nNotes:
URL:https://sflc.net/event/wednesday-night-family-services-16/
CATEGORIES:PCO
END:VEVENT
BEGIN:VEVENT
DTSTART;TZID=America/Chicago:20260117T090000
DTEND;TZID=America/Chicago:20260117T100000
DTSTAMP:20260424T201212
CREATED:20251113T205053Z
LAST-MODIFIED:20251113T205053Z
UID:455319-1768640400-1768644000@sflc.net
SUMMARY:3rd Saturday Corporate Prayer
DESCRIPTION:Every 3rd Saturday of the month\, we gather in faith to pray over our church\, our community\, and the many needs around us. We’d love for you to join us. \nNotes:
URL:https://sflc.net/event/3rd-saturday-corporate-prayer-5/
CATEGORIES:PCO
END:VEVENT
BEGIN:VEVENT
DTSTART;TZID=America/Chicago:20260118T090000
DTEND;TZID=America/Chicago:20260118T103000
DTSTAMP:20260424T201212
CREATED:20251113T205050Z
LAST-MODIFIED:20251113T205050Z
UID:455309-1768726800-1768732200@sflc.net
SUMMARY:Sunday Service: 1st Service
DESCRIPTION:Join us every Sunday at 9am or 11am as we gather as a church family to worship\, connect\, and grow in God’s Word. \nRooms: \nSanctuary\nNotes:
URL:https://sflc.net/event/sunday-service-1st-service-18/
CATEGORIES:PCO
END:VEVENT
BEGIN:VEVENT
DTSTART;TZID=America/Chicago:20260118T110000
DTEND;TZID=America/Chicago:20260118T123000
DTSTAMP:20260424T201212
CREATED:20251113T205051Z
LAST-MODIFIED:20251113T205051Z
UID:455310-1768734000-1768739400@sflc.net
SUMMARY:Sunday Service: 2nd Service
DESCRIPTION:Join us every Sunday at 9am or 11am as we gather as a church family to worship\, connect\, and grow in God’s Word. \nRooms: \nSanctuary\nNotes:
URL:https://sflc.net/event/sunday-service-2nd-service-18/
CATEGORIES:PCO
END:VEVENT
BEGIN:VEVENT
DTSTART;TZID=America/Chicago:20260121T190000
DTEND;TZID=America/Chicago:20260121T203000
DTSTAMP:20260424T201212
CREATED:20251113T205045Z
LAST-MODIFIED:20251113T205045Z
UID:455287-1769022000-1769027400@sflc.net
SUMMARY:Wednesday Night Family Services
DESCRIPTION:Join us every Wednesday night as we gather as a church family to worship\, connect\, and grow in God’s Word. We have something for the entire family — Bible Study\, Kids\, Youth\, Young Adults\, and a Marriage class. \nNotes:
URL:https://sflc.net/event/wednesday-night-family-services-17/
CATEGORIES:PCO
END:VEVENT
BEGIN:VEVENT
DTSTART;TZID=America/Chicago:20260125T090000
DTEND;TZID=America/Chicago:20260125T103000
DTSTAMP:20260424T201212
CREATED:20251113T205051Z
LAST-MODIFIED:20260122T183206Z
UID:455311-1769331600-1769337000@sflc.net
SUMMARY:Sunday Service: 1st Service
DESCRIPTION:Join us every Sunday at 9am or 11am as we gather as a church family to worship\, connect\, and grow in God’s Word. \nRooms: \nSanctuary\nNotes:
URL:https://sflc.net/event/sunday-service-1st-service-19/
CATEGORIES:PCO
END:VEVENT
BEGIN:VEVENT
DTSTART;TZID=America/Chicago:20260125T110000
DTEND;TZID=America/Chicago:20260125T123000
DTSTAMP:20260424T201212
CREATED:20251113T205051Z
LAST-MODIFIED:20260122T183207Z
UID:455312-1769338800-1769344200@sflc.net
SUMMARY:Sunday Service: 2nd Service
DESCRIPTION:Join us every Sunday at 9am or 11am as we gather as a church family to worship\, connect\, and grow in God’s Word. \nRooms: \nSanctuary\nNotes:
URL:https://sflc.net/event/sunday-service-2nd-service-19/
CATEGORIES:PCO
END:VEVENT
BEGIN:VEVENT
DTSTART;TZID=America/Chicago:20260128T190000
DTEND;TZID=America/Chicago:20260128T203000
DTSTAMP:20260424T201212
CREATED:20251113T205045Z
LAST-MODIFIED:20260122T183203Z
UID:455288-1769626800-1769632200@sflc.net
SUMMARY:Wednesday Night Family Services
DESCRIPTION:Join us every Wednesday night as we gather as a church family to worship\, connect\, and grow in God’s Word. We have something for the entire family — Prayer\, Kids\, Youth\, Young Adults\, and a Marriage class. \nNotes:
URL:https://sflc.net/event/wednesday-night-family-services-18/
CATEGORIES:PCO
END:VEVENT
BEGIN:VEVENT
DTSTART;TZID=America/Chicago:20260201T090000
DTEND;TZID=America/Chicago:20260201T103000
DTSTAMP:20260424T201212
CREATED:20251113T205052Z
LAST-MODIFIED:20260122T183207Z
UID:455313-1769936400-1769941800@sflc.net
SUMMARY:Sunday Service: 1st Service
DESCRIPTION:Join us every Sunday at 9am or 11am as we gather as a church family to worship\, connect\, and grow in God’s Word. \nRooms: \nSanctuary\nNotes:
URL:https://sflc.net/event/sunday-service-1st-service-20/
CATEGORIES:PCO
END:VEVENT
BEGIN:VEVENT
DTSTART;TZID=America/Chicago:20260201T110000
DTEND;TZID=America/Chicago:20260201T123000
DTSTAMP:20260424T201212
CREATED:20251113T205052Z
LAST-MODIFIED:20260122T183207Z
UID:455314-1769943600-1769949000@sflc.net
SUMMARY:Sunday Service: 2nd Service
DESCRIPTION:Join us every Sunday at 9am or 11am as we gather as a church family to worship\, connect\, and grow in God’s Word. \nRooms: \nSanctuary\nNotes:
URL:https://sflc.net/event/sunday-service-2nd-service-20/
CATEGORIES:PCO
END:VEVENT
BEGIN:VEVENT
DTSTART;TZID=America/Chicago:20260204T190000
DTEND;TZID=America/Chicago:20260204T203000
DTSTAMP:20260424T201212
CREATED:20251113T205045Z
LAST-MODIFIED:20260122T183203Z
UID:455289-1770231600-1770237000@sflc.net
SUMMARY:Wednesday Night Family Services
DESCRIPTION:Join us every Wednesday night as we gather as a church family to worship\, connect\, and grow in God’s Word. We have something for the entire family — Prayer\, Kids\, Youth\, Young Adults\, and a Marriage class. \nNotes:
URL:https://sflc.net/event/wednesday-night-family-services-19/
CATEGORIES:PCO
END:VEVENT
BEGIN:VEVENT
DTSTART;TZID=America/Chicago:20260207T070000
DTEND;TZID=America/Chicago:20260207T120000
DTSTAMP:20260424T201212
CREATED:20251113T205054Z
LAST-MODIFIED:20260122T183215Z
UID:455322-1770447600-1770465600@sflc.net
SUMMARY:Operation Love's Outreach
DESCRIPTION:On the first Saturday of each month (except July and September)\, we come together to provide groceries for families in need. Our amazing volunteers help unload and prepare the food distribution. Want to join the team? Visit: https://sflc.churchcenter.com/people/forms/708688 \nNotes:
URL:https://sflc.net/event/operation-loves-outreach-5/
CATEGORIES:PCO
END:VEVENT
BEGIN:VEVENT
DTSTART;TZID=America/Chicago:20260208T090000
DTEND;TZID=America/Chicago:20260208T103000
DTSTAMP:20260424T201212
CREATED:20251113T205052Z
LAST-MODIFIED:20260122T183208Z
UID:455315-1770541200-1770546600@sflc.net
SUMMARY:Sunday Service: 1st Service
DESCRIPTION:Join us every Sunday at 9am or 11am as we gather as a church family to worship\, connect\, and grow in God’s Word. \nRooms: \nSanctuary\nNotes:
URL:https://sflc.net/event/sunday-service-1st-service-21/
CATEGORIES:PCO
END:VEVENT
BEGIN:VEVENT
DTSTART;TZID=America/Chicago:20260208T110000
DTEND;TZID=America/Chicago:20260208T123000
DTSTAMP:20260424T201212
CREATED:20251113T205052Z
LAST-MODIFIED:20260122T183208Z
UID:455316-1770548400-1770553800@sflc.net
SUMMARY:Sunday Service: 2nd Service
DESCRIPTION:Join us every Sunday at 9am or 11am as we gather as a church family to worship\, connect\, and grow in God’s Word. \nRooms: \nSanctuary\nNotes:
URL:https://sflc.net/event/sunday-service-2nd-service-21/
CATEGORIES:PCO
END:VEVENT
BEGIN:VEVENT
DTSTART;TZID=America/Chicago:20260211T190000
DTEND;TZID=America/Chicago:20260211T203000
DTSTAMP:20260424T201212
CREATED:20251113T205046Z
LAST-MODIFIED:20260122T183204Z
UID:455290-1770836400-1770841800@sflc.net
SUMMARY:Wednesday Night Family Services
DESCRIPTION:Join us every Wednesday night as we gather as a church family to worship\, connect\, and grow in God’s Word. We have something for the entire family — Prayer\, Kids\, Youth\, Young Adults\, and a Marriage class. \nNotes:
URL:https://sflc.net/event/wednesday-night-family-services-20/
CATEGORIES:PCO
END:VEVENT
BEGIN:VEVENT
DTSTART;TZID=America/Chicago:20260215T090000
DTEND;TZID=America/Chicago:20260215T103000
DTSTAMP:20260424T201212
CREATED:20260122T183208Z
LAST-MODIFIED:20260122T183208Z
UID:455408-1771146000-1771151400@sflc.net
SUMMARY:Sunday Service: 1st Service
DESCRIPTION:Join us every Sunday at 9am or 11am as we gather as a church family to worship\, connect\, and grow in God’s Word. \nRooms: \nSanctuary\nNotes:
URL:https://sflc.net/event/sunday-service-1st-service-22/
CATEGORIES:PCO
END:VEVENT
BEGIN:VEVENT
DTSTART;TZID=America/Chicago:20260215T110000
DTEND;TZID=America/Chicago:20260215T123000
DTSTAMP:20260424T201212
CREATED:20260122T183209Z
LAST-MODIFIED:20260122T183209Z
UID:455409-1771153200-1771158600@sflc.net
SUMMARY:Sunday Service: 2nd Service
DESCRIPTION:Join us every Sunday at 9am or 11am as we gather as a church family to worship\, connect\, and grow in God’s Word. \nRooms: \nSanctuary\nNotes:
URL:https://sflc.net/event/sunday-service-2nd-service-22/
CATEGORIES:PCO
END:VEVENT
BEGIN:VEVENT
DTSTART;TZID=America/Chicago:20260218T190000
DTEND;TZID=America/Chicago:20260218T203000
DTSTAMP:20260424T201212
CREATED:20260122T183204Z
LAST-MODIFIED:20260122T183204Z
UID:455393-1771441200-1771446600@sflc.net
SUMMARY:Wednesday Night Family Services
DESCRIPTION:Join us every Wednesday night as we gather as a church family to worship\, connect\, and grow in God’s Word. We have something for the entire family — Prayer\, Kids\, Youth\, Young Adults\, and a Marriage class. \nNotes:
URL:https://sflc.net/event/wednesday-night-family-services-21/
CATEGORIES:PCO
END:VEVENT
BEGIN:VEVENT
DTSTART;TZID=America/Chicago:20260219T110000
DTEND;TZID=America/Chicago:20260219T123000
DTSTAMP:20260424T201212
CREATED:20260122T183216Z
LAST-MODIFIED:20260122T183216Z
UID:455431-1771498800-1771504200@sflc.net
SUMMARY:The Gathering
DESCRIPTION:he Gathering is a monthly time of connection\, encouragement\, and joy for those ages 55 and up. Whether you’re looking for meaningful conversation\, laughter\, prayer\, or simply a place to belong\, we invite you to join us. Come build friendships\, share stories\, and grow in faith together—we can’t wait to see you there! \nNotes:
URL:https://sflc.net/event/the-gathering/
CATEGORIES:PCO
END:VEVENT
BEGIN:VEVENT
DTSTART;TZID=America/Chicago:20260222T090000
DTEND;TZID=America/Chicago:20260222T103000
DTSTAMP:20260424T201212
CREATED:20260122T183209Z
LAST-MODIFIED:20260122T183209Z
UID:455410-1771750800-1771756200@sflc.net
SUMMARY:Sunday Service: 1st Service
DESCRIPTION:Join us every Sunday at 9am or 11am as we gather as a church family to worship\, connect\, and grow in God’s Word. \nRooms: \nSanctuary\nNotes:
URL:https://sflc.net/event/sunday-service-1st-service-23/
CATEGORIES:PCO
END:VEVENT
BEGIN:VEVENT
DTSTART;TZID=America/Chicago:20260222T110000
DTEND;TZID=America/Chicago:20260222T123000
DTSTAMP:20260424T201212
CREATED:20260122T183209Z
LAST-MODIFIED:20260122T183209Z
UID:455411-1771758000-1771763400@sflc.net
SUMMARY:Sunday Service: 2nd Service
DESCRIPTION:Join us every Sunday at 9am or 11am as we gather as a church family to worship\, connect\, and grow in God’s Word. \nRooms: \nSanctuary\nNotes:
URL:https://sflc.net/event/sunday-service-2nd-service-23/
CATEGORIES:PCO
END:VEVENT
BEGIN:VEVENT
DTSTART;TZID=America/Chicago:20260225T190000
DTEND;TZID=America/Chicago:20260225T203000
DTSTAMP:20260424T201212
CREATED:20260122T183204Z
LAST-MODIFIED:20260122T183204Z
UID:455394-1772046000-1772051400@sflc.net
SUMMARY:Wednesday Night Family Services
DESCRIPTION:Join us every Wednesday night as we gather as a church family to worship\, connect\, and grow in God’s Word. We have something for the entire family — Prayer\, Kids\, Youth\, Young Adults\, and a Marriage class. \nNotes:
URL:https://sflc.net/event/wednesday-night-family-services-22/
CATEGORIES:PCO
END:VEVENT
BEGIN:VEVENT
DTSTART;TZID=America/Chicago:20260301T090000
DTEND;TZID=America/Chicago:20260301T103000
DTSTAMP:20260424T201212
CREATED:20260122T183210Z
LAST-MODIFIED:20260122T183210Z
UID:455412-1772355600-1772361000@sflc.net
SUMMARY:Sunday Service: 1st Service
DESCRIPTION:Join us every Sunday at 9am or 11am as we gather as a church family to worship\, connect\, and grow in God’s Word. \nRooms: \nSanctuary\nNotes:
URL:https://sflc.net/event/sunday-service-1st-service-24/
CATEGORIES:PCO
END:VEVENT
BEGIN:VEVENT
DTSTART;TZID=America/Chicago:20260301T110000
DTEND;TZID=America/Chicago:20260301T123000
DTSTAMP:20260424T201212
CREATED:20260122T183210Z
LAST-MODIFIED:20260122T183210Z
UID:455413-1772362800-1772368200@sflc.net
SUMMARY:Sunday Service: 2nd Service
DESCRIPTION:Join us every Sunday at 9am or 11am as we gather as a church family to worship\, connect\, and grow in God’s Word. \nRooms: \nSanctuary\nNotes:
URL:https://sflc.net/event/sunday-service-2nd-service-24/
CATEGORIES:PCO
END:VEVENT
BEGIN:VEVENT
DTSTART;TZID=America/Chicago:20260304T190000
DTEND;TZID=America/Chicago:20260304T203000
DTSTAMP:20260424T201212
CREATED:20260122T183204Z
LAST-MODIFIED:20260122T183204Z
UID:455395-1772650800-1772656200@sflc.net
SUMMARY:Wednesday Night Family Services
DESCRIPTION:Join us every Wednesday night as we gather as a church family to worship\, connect\, and grow in God’s Word. We have something for the entire family — Prayer\, Kids\, Youth\, Young Adults\, and a Marriage class. \nNotes:
URL:https://sflc.net/event/wednesday-night-family-services-23/
CATEGORIES:PCO
END:VEVENT
BEGIN:VEVENT
DTSTART;TZID=America/Chicago:20260307T070000
DTEND;TZID=America/Chicago:20260307T120000
DTSTAMP:20260424T201212
CREATED:20260122T183215Z
LAST-MODIFIED:20260122T183215Z
UID:455429-1772866800-1772884800@sflc.net
SUMMARY:Operation Love's Outreach
DESCRIPTION:On the first Saturday of each month (except July and September)\, we come together to provide groceries for families in need. Our amazing volunteers help unload and prepare the food distribution. Want to join the team? Visit: https://sflc.churchcenter.com/people/forms/708688 \nNotes:
URL:https://sflc.net/event/operation-loves-outreach-6/
CATEGORIES:PCO
END:VEVENT
BEGIN:VEVENT
DTSTART;TZID=America/Chicago:20260308T090000
DTEND;TZID=America/Chicago:20260308T103000
DTSTAMP:20260424T201212
CREATED:20260122T183210Z
LAST-MODIFIED:20260122T183210Z
UID:455414-1772960400-1772965800@sflc.net
SUMMARY:Sunday Service: 1st Service
DESCRIPTION:Join us every Sunday at 9am or 11am as we gather as a church family to worship\, connect\, and grow in God’s Word. \nRooms: \nSanctuary\nNotes:
URL:https://sflc.net/event/sunday-service-1st-service-25/
CATEGORIES:PCO
END:VEVENT
END:VCALENDAR