BEGIN:VCALENDAR
VERSION:2.0
PRODID:-//Sheffield Family Life Center - ECPv6.15.20//NONSGML v1.0//EN
CALSCALE:GREGORIAN
METHOD:PUBLISH
X-WR-CALNAME:Sheffield Family Life Center
X-ORIGINAL-URL:https://sflc.net
X-WR-CALDESC:Events for Sheffield Family Life Center
REFRESH-INTERVAL;VALUE=DURATION:PT1H
X-Robots-Tag:noindex
X-PUBLISHED-TTL:PT1H
BEGIN:VTIMEZONE
TZID:America/Chicago
BEGIN:DAYLIGHT
TZOFFSETFROM:-0600
TZOFFSETTO:-0500
TZNAME:CDT
DTSTART:20250309T080000
END:DAYLIGHT
BEGIN:STANDARD
TZOFFSETFROM:-0500
TZOFFSETTO:-0600
TZNAME:CST
DTSTART:20251102T070000
END:STANDARD
BEGIN:DAYLIGHT
TZOFFSETFROM:-0600
TZOFFSETTO:-0500
TZNAME:CDT
DTSTART:20260308T080000
END:DAYLIGHT
BEGIN:STANDARD
TZOFFSETFROM:-0500
TZOFFSETTO:-0600
TZNAME:CST
DTSTART:20261101T070000
END:STANDARD
BEGIN:DAYLIGHT
TZOFFSETFROM:-0600
TZOFFSETTO:-0500
TZNAME:CDT
DTSTART:20270314T080000
END:DAYLIGHT
BEGIN:STANDARD
TZOFFSETFROM:-0500
TZOFFSETTO:-0600
TZNAME:CST
DTSTART:20271107T070000
END:STANDARD
END:VTIMEZONE
BEGIN:VEVENT
DTSTART;TZID=America/Chicago:20260521T110000
DTEND;TZID=America/Chicago:20260521T123000
DTSTAMP:20260424T184020
CREATED:20260310T194721Z
LAST-MODIFIED:20260310T194721Z
UID:455477-1779361200-1779366600@sflc.net
SUMMARY:The Gathering
DESCRIPTION:he Gathering is a monthly time of connection\, encouragement\, and joy for those ages 55 and up. Whether you’re looking for meaningful conversation\, laughter\, prayer\, or simply a place to belong\, we invite you to join us. Come build friendships\, share stories\, and grow in faith together—we can’t wait to see you there! \nNotes:
URL:https://sflc.net/event/the-gathering-4/
CATEGORIES:PCO
END:VEVENT
BEGIN:VEVENT
DTSTART;TZID=America/Chicago:20260520T190000
DTEND;TZID=America/Chicago:20260520T203000
DTSTAMP:20260424T184020
CREATED:20260310T194654Z
LAST-MODIFIED:20260310T194654Z
UID:455445-1779303600-1779309000@sflc.net
SUMMARY:Wednesday Night Family Services
DESCRIPTION:Join us every Wednesday night as we gather as a church family to worship\, connect\, and grow in God’s Word. We have something for the entire family — Prayer\, Kids\, Youth\, Young Adults\, and a Marriage class. \nNotes:
URL:https://sflc.net/event/wednesday-night-family-services-34/
CATEGORIES:PCO
END:VEVENT
BEGIN:VEVENT
DTSTART;TZID=America/Chicago:20260517T110000
DTEND;TZID=America/Chicago:20260517T123000
DTSTAMP:20260424T184020
CREATED:20260310T194710Z
LAST-MODIFIED:20260310T194710Z
UID:455465-1779015600-1779021000@sflc.net
SUMMARY:Sunday Service: 2nd Service
DESCRIPTION:Join us every Sunday at 9am or 11am as we gather as a church family to worship\, connect\, and grow in God’s Word. \nRooms: \nSanctuary\nNotes:
URL:https://sflc.net/event/sunday-service-2nd-service-35/
CATEGORIES:PCO
END:VEVENT
BEGIN:VEVENT
DTSTART;TZID=America/Chicago:20260517T090000
DTEND;TZID=America/Chicago:20260517T103000
DTSTAMP:20260424T184020
CREATED:20260310T194709Z
LAST-MODIFIED:20260310T194709Z
UID:455464-1779008400-1779013800@sflc.net
SUMMARY:Sunday Service: 1st Service
DESCRIPTION:Join us every Sunday at 9am or 11am as we gather as a church family to worship\, connect\, and grow in God’s Word. \nRooms: \nSanctuary\nNotes:
URL:https://sflc.net/event/sunday-service-1st-service-35/
CATEGORIES:PCO
END:VEVENT
BEGIN:VEVENT
DTSTART;TZID=America/Chicago:20260513T190000
DTEND;TZID=America/Chicago:20260513T203000
DTSTAMP:20260424T184020
CREATED:20260310T194653Z
LAST-MODIFIED:20260310T194653Z
UID:455444-1778698800-1778704200@sflc.net
SUMMARY:Wednesday Night Family Services
DESCRIPTION:Join us every Wednesday night as we gather as a church family to worship\, connect\, and grow in God’s Word. We have something for the entire family — Prayer\, Kids\, Youth\, Young Adults\, and a Marriage class. \nNotes:
URL:https://sflc.net/event/wednesday-night-family-services-33/
CATEGORIES:PCO
END:VEVENT
BEGIN:VEVENT
DTSTART;TZID=America/Chicago:20260510T110000
DTEND;TZID=America/Chicago:20260510T123000
DTSTAMP:20260424T184020
CREATED:20260310T194708Z
LAST-MODIFIED:20260310T194708Z
UID:455463-1778410800-1778416200@sflc.net
SUMMARY:Sunday Service: 2nd Service
DESCRIPTION:Join us every Sunday at 9am or 11am as we gather as a church family to worship\, connect\, and grow in God’s Word. \nRooms: \nSanctuary\nNotes:
URL:https://sflc.net/event/sunday-service-2nd-service-34/
CATEGORIES:PCO
END:VEVENT
BEGIN:VEVENT
DTSTART;TZID=America/Chicago:20260510T090000
DTEND;TZID=America/Chicago:20260510T103000
DTSTAMP:20260424T184020
CREATED:20260310T194707Z
LAST-MODIFIED:20260310T194707Z
UID:455462-1778403600-1778409000@sflc.net
SUMMARY:Sunday Service: 1st Service
DESCRIPTION:Join us every Sunday at 9am or 11am as we gather as a church family to worship\, connect\, and grow in God’s Word. \nRooms: \nSanctuary\nNotes:
URL:https://sflc.net/event/sunday-service-1st-service-34/
CATEGORIES:PCO
END:VEVENT
BEGIN:VEVENT
DTSTART;TZID=America/Chicago:20260506T190000
DTEND;TZID=America/Chicago:20260506T203000
DTSTAMP:20260424T184020
CREATED:20260310T194652Z
LAST-MODIFIED:20260310T194652Z
UID:455443-1778094000-1778099400@sflc.net
SUMMARY:Wednesday Night Family Services
DESCRIPTION:Join us every Wednesday night as we gather as a church family to worship\, connect\, and grow in God’s Word. We have something for the entire family — Prayer\, Kids\, Youth\, Young Adults\, and a Marriage class. \nNotes:
URL:https://sflc.net/event/wednesday-night-family-services-32/
CATEGORIES:PCO
END:VEVENT
BEGIN:VEVENT
DTSTART;TZID=America/Chicago:20260503T110000
DTEND;TZID=America/Chicago:20260503T123000
DTSTAMP:20260424T184020
CREATED:20260310T194707Z
LAST-MODIFIED:20260310T194707Z
UID:455461-1777806000-1777811400@sflc.net
SUMMARY:Sunday Service: 2nd Service
DESCRIPTION:Join us every Sunday at 9am or 11am as we gather as a church family to worship\, connect\, and grow in God’s Word. \nRooms: \nSanctuary\nNotes:
URL:https://sflc.net/event/sunday-service-2nd-service-33/
CATEGORIES:PCO
END:VEVENT
BEGIN:VEVENT
DTSTART;TZID=America/Chicago:20260503T090000
DTEND;TZID=America/Chicago:20260503T103000
DTSTAMP:20260424T184020
CREATED:20260310T194706Z
LAST-MODIFIED:20260310T194706Z
UID:455460-1777798800-1777804200@sflc.net
SUMMARY:Sunday Service: 1st Service
DESCRIPTION:Join us every Sunday at 9am or 11am as we gather as a church family to worship\, connect\, and grow in God’s Word. \nRooms: \nSanctuary\nNotes:
URL:https://sflc.net/event/sunday-service-1st-service-33/
CATEGORIES:PCO
END:VEVENT
BEGIN:VEVENT
DTSTART;TZID=America/Chicago:20260502T070000
DTEND;TZID=America/Chicago:20260502T120000
DTSTAMP:20260424T184020
CREATED:20260310T194717Z
LAST-MODIFIED:20260310T194717Z
UID:455473-1777705200-1777723200@sflc.net
SUMMARY:Operation Love's Outreach
DESCRIPTION:On the first Saturday of each month (except July and September)\, we come together to provide groceries for families in need. Our amazing volunteers help unload and prepare the food distribution. Want to join the team? Visit: https://sflc.churchcenter.com/people/forms/708688 \nNotes:
URL:https://sflc.net/event/operation-loves-outreach-8/
CATEGORIES:PCO
END:VEVENT
BEGIN:VEVENT
DTSTART;TZID=America/Chicago:20260429T190000
DTEND;TZID=America/Chicago:20260429T203000
DTSTAMP:20260424T184020
CREATED:20260310T194651Z
LAST-MODIFIED:20260310T194651Z
UID:455442-1777489200-1777494600@sflc.net
SUMMARY:Wednesday Night Family Services
DESCRIPTION:Join us every Wednesday night as we gather as a church family to worship\, connect\, and grow in God’s Word. We have something for the entire family — Prayer\, Kids\, Youth\, Young Adults\, and a Marriage class. \nNotes:
URL:https://sflc.net/event/wednesday-night-family-services-31/
CATEGORIES:PCO
END:VEVENT
BEGIN:VEVENT
DTSTART;TZID=America/Chicago:20260426T110000
DTEND;TZID=America/Chicago:20260426T123000
DTSTAMP:20260424T184020
CREATED:20260310T194705Z
LAST-MODIFIED:20260310T194705Z
UID:455459-1777201200-1777206600@sflc.net
SUMMARY:Sunday Service: 2nd Service
DESCRIPTION:Join us every Sunday at 9am or 11am as we gather as a church family to worship\, connect\, and grow in God’s Word. \nRooms: \nSanctuary\nNotes:
URL:https://sflc.net/event/sunday-service-2nd-service-32/
CATEGORIES:PCO
END:VEVENT
BEGIN:VEVENT
DTSTART;TZID=America/Chicago:20260426T090000
DTEND;TZID=America/Chicago:20260426T103000
DTSTAMP:20260424T184020
CREATED:20260310T194704Z
LAST-MODIFIED:20260310T194704Z
UID:455458-1777194000-1777199400@sflc.net
SUMMARY:Sunday Service: 1st Service
DESCRIPTION:Join us every Sunday at 9am or 11am as we gather as a church family to worship\, connect\, and grow in God’s Word. \nRooms: \nSanctuary\nNotes:
URL:https://sflc.net/event/sunday-service-1st-service-32/
CATEGORIES:PCO
END:VEVENT
BEGIN:VEVENT
DTSTART;TZID=America/Chicago:20260422T190000
DTEND;TZID=America/Chicago:20260422T203000
DTSTAMP:20260424T184020
CREATED:20260310T194650Z
LAST-MODIFIED:20260310T194650Z
UID:455441-1776884400-1776889800@sflc.net
SUMMARY:Wednesday Night Family Services
DESCRIPTION:Join us every Wednesday night as we gather as a church family to worship\, connect\, and grow in God’s Word. We have something for the entire family — Prayer\, Kids\, Youth\, Young Adults\, and a Marriage class. \nNotes:
URL:https://sflc.net/event/wednesday-night-family-services-30/
CATEGORIES:PCO
END:VEVENT
BEGIN:VEVENT
DTSTART;TZID=America/Chicago:20260419T110000
DTEND;TZID=America/Chicago:20260419T123000
DTSTAMP:20260424T184020
CREATED:20260122T183214Z
LAST-MODIFIED:20260310T194703Z
UID:455427-1776596400-1776601800@sflc.net
SUMMARY:Sunday Service: 2nd Service
DESCRIPTION:Join us every Sunday at 9am or 11am as we gather as a church family to worship\, connect\, and grow in God’s Word. \nRooms: \nSanctuary\nNotes:
URL:https://sflc.net/event/sunday-service-2nd-service-31/
CATEGORIES:PCO
END:VEVENT
BEGIN:VEVENT
DTSTART;TZID=America/Chicago:20260419T090000
DTEND;TZID=America/Chicago:20260419T103000
DTSTAMP:20260424T184020
CREATED:20260122T183214Z
LAST-MODIFIED:20260310T194702Z
UID:455426-1776589200-1776594600@sflc.net
SUMMARY:Sunday Service: 1st Service
DESCRIPTION:Join us every Sunday at 9am or 11am as we gather as a church family to worship\, connect\, and grow in God’s Word. \nRooms: \nSanctuary\nNotes:
URL:https://sflc.net/event/sunday-service-1st-service-31/
CATEGORIES:PCO
END:VEVENT
BEGIN:VEVENT
DTSTART;TZID=America/Chicago:20260416T110000
DTEND;TZID=America/Chicago:20260416T123000
DTSTAMP:20260424T184020
CREATED:20260122T183216Z
LAST-MODIFIED:20260310T194720Z
UID:455433-1776337200-1776342600@sflc.net
SUMMARY:The Gathering
DESCRIPTION:he Gathering is a monthly time of connection\, encouragement\, and joy for those ages 55 and up. Whether you’re looking for meaningful conversation\, laughter\, prayer\, or simply a place to belong\, we invite you to join us. Come build friendships\, share stories\, and grow in faith together—we can’t wait to see you there! \nNotes:
URL:https://sflc.net/event/the-gathering-3/
CATEGORIES:PCO
END:VEVENT
BEGIN:VEVENT
DTSTART;TZID=America/Chicago:20260415T190000
DTEND;TZID=America/Chicago:20260415T203000
DTSTAMP:20260424T184020
CREATED:20260122T183206Z
LAST-MODIFIED:20260310T194649Z
UID:455401-1776279600-1776285000@sflc.net
SUMMARY:Wednesday Night Family Services
DESCRIPTION:Join us every Wednesday night as we gather as a church family to worship\, connect\, and grow in God’s Word. We have something for the entire family — Prayer\, Kids\, Youth\, Young Adults\, and a Marriage class. \nNotes:
URL:https://sflc.net/event/wednesday-night-family-services-29/
CATEGORIES:PCO
END:VEVENT
BEGIN:VEVENT
DTSTART;TZID=America/Chicago:20260412T110000
DTEND;TZID=America/Chicago:20260412T123000
DTSTAMP:20260424T184020
CREATED:20260122T183214Z
LAST-MODIFIED:20260310T194701Z
UID:455425-1775991600-1775997000@sflc.net
SUMMARY:Sunday Service: 2nd Service
DESCRIPTION:Join us every Sunday at 9am or 11am as we gather as a church family to worship\, connect\, and grow in God’s Word. \nRooms: \nSanctuary\nNotes:
URL:https://sflc.net/event/sunday-service-2nd-service-30/
CATEGORIES:PCO
END:VEVENT
BEGIN:VEVENT
DTSTART;TZID=America/Chicago:20260412T090000
DTEND;TZID=America/Chicago:20260412T103000
DTSTAMP:20260424T184020
CREATED:20260122T183213Z
LAST-MODIFIED:20260310T194701Z
UID:455424-1775984400-1775989800@sflc.net
SUMMARY:Sunday Service: 1st Service
DESCRIPTION:Join us every Sunday at 9am or 11am as we gather as a church family to worship\, connect\, and grow in God’s Word. \nRooms: \nSanctuary\nNotes:
URL:https://sflc.net/event/sunday-service-1st-service-30/
CATEGORIES:PCO
END:VEVENT
BEGIN:VEVENT
DTSTART;TZID=America/Chicago:20260408T190000
DTEND;TZID=America/Chicago:20260408T203000
DTSTAMP:20260424T184020
CREATED:20260122T183206Z
LAST-MODIFIED:20260310T194649Z
UID:455400-1775674800-1775680200@sflc.net
SUMMARY:Wednesday Night Family Services
DESCRIPTION:Join us every Wednesday night as we gather as a church family to worship\, connect\, and grow in God’s Word. We have something for the entire family — Prayer\, Kids\, Youth\, Young Adults\, and a Marriage class. \nNotes:
URL:https://sflc.net/event/wednesday-night-family-services-28/
CATEGORIES:PCO
END:VEVENT
BEGIN:VEVENT
DTSTART;TZID=America/Chicago:20260405T110000
DTEND;TZID=America/Chicago:20260405T123000
DTSTAMP:20260424T184020
CREATED:20260310T194726Z
LAST-MODIFIED:20260310T194726Z
UID:455483-1775386800-1775392200@sflc.net
SUMMARY:Easter Sunday Service: 2nd Service
DESCRIPTION:Join us every Sunday at 9am or 11am as we gather as a church family to worship\, connect\, and grow in God’s Word. \nRooms: \nSanctuary\nNotes:
URL:https://sflc.net/event/easter-sunday-service-2nd-service/
CATEGORIES:PCO
END:VEVENT
BEGIN:VEVENT
DTSTART;TZID=America/Chicago:20260405T110000
DTEND;TZID=America/Chicago:20260405T123000
DTSTAMP:20260424T184020
CREATED:20260122T183213Z
LAST-MODIFIED:20260122T183213Z
UID:455423-1775386800-1775392200@sflc.net
SUMMARY:Sunday Service: 2nd Service
DESCRIPTION:Join us every Sunday at 9am or 11am as we gather as a church family to worship\, connect\, and grow in God’s Word. \nRooms: \nSanctuary\nNotes:
URL:https://sflc.net/event/sunday-service-2nd-service-29/
CATEGORIES:PCO
END:VEVENT
BEGIN:VEVENT
DTSTART;TZID=America/Chicago:20260405T090000
DTEND;TZID=America/Chicago:20260405T103000
DTSTAMP:20260424T184020
CREATED:20260310T194725Z
LAST-MODIFIED:20260310T194725Z
UID:455482-1775379600-1775385000@sflc.net
SUMMARY:Easter Sunday Service: 1st Service
DESCRIPTION:Join us every Sunday at 9am or 11am as we gather as a church family to worship\, connect\, and grow in God’s Word. \nRooms: \nSanctuary\nNotes:
URL:https://sflc.net/event/easter-sunday-service-1st-service/
CATEGORIES:PCO
END:VEVENT
BEGIN:VEVENT
DTSTART;TZID=America/Chicago:20260405T090000
DTEND;TZID=America/Chicago:20260405T103000
DTSTAMP:20260424T184020
CREATED:20260122T183213Z
LAST-MODIFIED:20260122T183213Z
UID:455422-1775379600-1775385000@sflc.net
SUMMARY:Sunday Service: 1st Service
DESCRIPTION:Join us every Sunday at 9am or 11am as we gather as a church family to worship\, connect\, and grow in God’s Word. \nRooms: \nSanctuary\nNotes:
URL:https://sflc.net/event/sunday-service-1st-service-29/
CATEGORIES:PCO
END:VEVENT
BEGIN:VEVENT
DTSTART;TZID=America/Chicago:20260404T070000
DTEND;TZID=America/Chicago:20260404T120000
DTSTAMP:20260424T184020
CREATED:20260122T183215Z
LAST-MODIFIED:20260310T194717Z
UID:455430-1775286000-1775304000@sflc.net
SUMMARY:Operation Love's Outreach
DESCRIPTION:On the first Saturday of each month (except July and September)\, we come together to provide groceries for families in need. Our amazing volunteers help unload and prepare the food distribution. Want to join the team? Visit: https://sflc.churchcenter.com/people/forms/708688 \nNotes:
URL:https://sflc.net/event/operation-loves-outreach-7/
CATEGORIES:PCO
END:VEVENT
BEGIN:VEVENT
DTSTART;TZID=America/Chicago:20260401T190000
DTEND;TZID=America/Chicago:20260401T203000
DTSTAMP:20260424T184020
CREATED:20260310T194724Z
LAST-MODIFIED:20260310T194724Z
UID:455481-1775070000-1775075400@sflc.net
SUMMARY:Emotionally Healthy Spirituality
DESCRIPTION:Sign up for this class to become an emotionally healthy leader. In this course your leadership\, spirituality and life will be transformed in a powerful\, thought provoking way. \nNotes:
URL:https://sflc.net/event/emotionally-healthy-spirituality-4/
CATEGORIES:PCO
END:VEVENT
BEGIN:VEVENT
DTSTART;TZID=America/Chicago:20260401T190000
DTEND;TZID=America/Chicago:20260401T203000
DTSTAMP:20260424T184020
CREATED:20260122T183206Z
LAST-MODIFIED:20260310T194648Z
UID:455399-1775070000-1775075400@sflc.net
SUMMARY:Wednesday Night Family Services
DESCRIPTION:Join us every Wednesday night as we gather as a church family to worship\, connect\, and grow in God’s Word. We have something for the entire family — Prayer\, Kids\, Youth\, Young Adults\, and a Marriage class. \nNotes:
URL:https://sflc.net/event/wednesday-night-family-services-27/
CATEGORIES:PCO
END:VEVENT
BEGIN:VEVENT
DTSTART;TZID=America/Chicago:20260329T110000
DTEND;TZID=America/Chicago:20260329T123000
DTSTAMP:20260424T184020
CREATED:20260122T183212Z
LAST-MODIFIED:20260310T194700Z
UID:455421-1774782000-1774787400@sflc.net
SUMMARY:Sunday Service: 2nd Service
DESCRIPTION:Join us every Sunday at 9am or 11am as we gather as a church family to worship\, connect\, and grow in God’s Word. \nRooms: \nSanctuary\nNotes:
URL:https://sflc.net/event/sunday-service-2nd-service-28/
CATEGORIES:PCO
END:VEVENT
END:VCALENDAR