BEGIN:VCALENDAR
VERSION:2.0
PRODID:-//Sheffield Family Life Center - ECPv6.15.20//NONSGML v1.0//EN
CALSCALE:GREGORIAN
METHOD:PUBLISH
X-WR-CALNAME:Sheffield Family Life Center
X-ORIGINAL-URL:https://sflc.net
X-WR-CALDESC:Events for Sheffield Family Life Center
REFRESH-INTERVAL;VALUE=DURATION:PT1H
X-Robots-Tag:noindex
X-PUBLISHED-TTL:PT1H
BEGIN:VTIMEZONE
TZID:America/Chicago
BEGIN:DAYLIGHT
TZOFFSETFROM:-0600
TZOFFSETTO:-0500
TZNAME:CDT
DTSTART:20240310T080000
END:DAYLIGHT
BEGIN:STANDARD
TZOFFSETFROM:-0500
TZOFFSETTO:-0600
TZNAME:CST
DTSTART:20241103T070000
END:STANDARD
BEGIN:DAYLIGHT
TZOFFSETFROM:-0600
TZOFFSETTO:-0500
TZNAME:CDT
DTSTART:20250309T080000
END:DAYLIGHT
BEGIN:STANDARD
TZOFFSETFROM:-0500
TZOFFSETTO:-0600
TZNAME:CST
DTSTART:20251102T070000
END:STANDARD
BEGIN:DAYLIGHT
TZOFFSETFROM:-0600
TZOFFSETTO:-0500
TZNAME:CDT
DTSTART:20260308T080000
END:DAYLIGHT
BEGIN:STANDARD
TZOFFSETFROM:-0500
TZOFFSETTO:-0600
TZNAME:CST
DTSTART:20261101T070000
END:STANDARD
END:VTIMEZONE
BEGIN:VEVENT
DTSTART;TZID=America/Chicago:20251214T090000
DTEND;TZID=America/Chicago:20251214T103000
DTSTAMP:20260424T182628
CREATED:20251107T211324Z
LAST-MODIFIED:20251113T205048Z
UID:455242-1765702800-1765708200@sflc.net
SUMMARY:Sunday Service: 1st Service
DESCRIPTION:Join us every Sunday at 9am or 11am as we gather as a church family to worship\, connect\, and grow in God’s Word. \nRooms: \nSanctuary\nNotes:
URL:https://sflc.net/event/sunday-service-1st-service-13/
CATEGORIES:PCO,Services
END:VEVENT
BEGIN:VEVENT
DTSTART;TZID=America/Chicago:20251214T110000
DTEND;TZID=America/Chicago:20251214T123000
DTSTAMP:20260424T182628
CREATED:20251107T211324Z
LAST-MODIFIED:20251113T205048Z
UID:455243-1765710000-1765715400@sflc.net
SUMMARY:Sunday Service: 2nd Service
DESCRIPTION:Join us every Sunday at 9am or 11am as we gather as a church family to worship\, connect\, and grow in God’s Word. \nRooms: \nSanctuary\nNotes:
URL:https://sflc.net/event/sunday-service-2nd-service-13/
CATEGORIES:PCO,Services
END:VEVENT
END:VCALENDAR