BEGIN:VCALENDAR
VERSION:2.0
PRODID:-//Sheffield Family Life Center - ECPv6.15.20//NONSGML v1.0//EN
CALSCALE:GREGORIAN
METHOD:PUBLISH
X-WR-CALNAME:Sheffield Family Life Center
X-ORIGINAL-URL:https://sflc.net
X-WR-CALDESC:Events for Sheffield Family Life Center
REFRESH-INTERVAL;VALUE=DURATION:PT1H
X-Robots-Tag:noindex
X-PUBLISHED-TTL:PT1H
BEGIN:VTIMEZONE
TZID:America/Chicago
BEGIN:DAYLIGHT
TZOFFSETFROM:-0600
TZOFFSETTO:-0500
TZNAME:CDT
DTSTART:20240310T080000
END:DAYLIGHT
BEGIN:STANDARD
TZOFFSETFROM:-0500
TZOFFSETTO:-0600
TZNAME:CST
DTSTART:20241103T070000
END:STANDARD
BEGIN:DAYLIGHT
TZOFFSETFROM:-0600
TZOFFSETTO:-0500
TZNAME:CDT
DTSTART:20250309T080000
END:DAYLIGHT
BEGIN:STANDARD
TZOFFSETFROM:-0500
TZOFFSETTO:-0600
TZNAME:CST
DTSTART:20251102T070000
END:STANDARD
BEGIN:DAYLIGHT
TZOFFSETFROM:-0600
TZOFFSETTO:-0500
TZNAME:CDT
DTSTART:20260308T080000
END:DAYLIGHT
BEGIN:STANDARD
TZOFFSETFROM:-0500
TZOFFSETTO:-0600
TZNAME:CST
DTSTART:20261101T070000
END:STANDARD
END:VTIMEZONE
BEGIN:VEVENT
DTSTART;TZID=America/Chicago:20251207T090000
DTEND;TZID=America/Chicago:20251207T103000
DTSTAMP:20260424T181858
CREATED:20251107T211323Z
LAST-MODIFIED:20251113T205047Z
UID:455240-1765098000-1765103400@sflc.net
SUMMARY:Sunday Service: 1st Service
DESCRIPTION:Join us every Sunday at 9am or 11am as we gather as a church family to worship\, connect\, and grow in God’s Word. \nRooms: \nSanctuary\nNotes:
URL:https://sflc.net/event/sunday-service-1st-service-12/
CATEGORIES:PCO,Services
END:VEVENT
BEGIN:VEVENT
DTSTART;TZID=America/Chicago:20251207T110000
DTEND;TZID=America/Chicago:20251207T123000
DTSTAMP:20260424T181858
CREATED:20251107T211324Z
LAST-MODIFIED:20251113T205048Z
UID:455241-1765105200-1765110600@sflc.net
SUMMARY:Sunday Service: 2nd Service
DESCRIPTION:Join us every Sunday at 9am or 11am as we gather as a church family to worship\, connect\, and grow in God’s Word. \nRooms: \nSanctuary\nNotes:
URL:https://sflc.net/event/sunday-service-2nd-service-12/
CATEGORIES:PCO,Services
END:VEVENT
BEGIN:VEVENT
DTSTART;TZID=America/Chicago:20251207T123000
DTEND;TZID=America/Chicago:20251207T130000
DTSTAMP:20260424T181858
CREATED:20251116T180445Z
LAST-MODIFIED:20251116T180925Z
UID:455328-1765110600-1765112400@sflc.net
SUMMARY:Sheffield Social
DESCRIPTION:Join us for our Sheffield Social — a free\, church-wide luncheon happening Sunday\, December 7th\, immediately following the 11 AM service in the youth center gym. This is a great opportunity to connect\, share a meal\, and enjoy community together. RSVP below! \nNotes: \nRegister: RSVP
URL:https://sflc.net/event/sheffield-social/
LOCATION:Youth Center Gym\, 5915 Winner Rd\, Kansas City\, 64127\, United States
CATEGORIES:Special Events
ATTACH;FMTTYPE=image/png:https://sflc.net/wp-content/uploads/2025/11/sheffield-social-graphic.png.png
END:VEVENT
END:VCALENDAR