BEGIN:VCALENDAR
VERSION:2.0
PRODID:-//Sheffield Family Life Center - ECPv6.15.20//NONSGML v1.0//EN
CALSCALE:GREGORIAN
METHOD:PUBLISH
X-WR-CALNAME:Sheffield Family Life Center
X-ORIGINAL-URL:https://sflc.net
X-WR-CALDESC:Events for Sheffield Family Life Center
REFRESH-INTERVAL;VALUE=DURATION:PT1H
X-Robots-Tag:noindex
X-PUBLISHED-TTL:PT1H
BEGIN:VTIMEZONE
TZID:America/Chicago
BEGIN:DAYLIGHT
TZOFFSETFROM:-0600
TZOFFSETTO:-0500
TZNAME:CDT
DTSTART:20240310T080000
END:DAYLIGHT
BEGIN:STANDARD
TZOFFSETFROM:-0500
TZOFFSETTO:-0600
TZNAME:CST
DTSTART:20241103T070000
END:STANDARD
BEGIN:DAYLIGHT
TZOFFSETFROM:-0600
TZOFFSETTO:-0500
TZNAME:CDT
DTSTART:20250309T080000
END:DAYLIGHT
BEGIN:STANDARD
TZOFFSETFROM:-0500
TZOFFSETTO:-0600
TZNAME:CST
DTSTART:20251102T070000
END:STANDARD
BEGIN:DAYLIGHT
TZOFFSETFROM:-0600
TZOFFSETTO:-0500
TZNAME:CDT
DTSTART:20260308T080000
END:DAYLIGHT
BEGIN:STANDARD
TZOFFSETFROM:-0500
TZOFFSETTO:-0600
TZNAME:CST
DTSTART:20261101T070000
END:STANDARD
END:VTIMEZONE
BEGIN:VEVENT
DTSTART;TZID=America/Chicago:20251206T070000
DTEND;TZID=America/Chicago:20251206T120000
DTSTAMP:20260424T181857
CREATED:20250929T191457Z
LAST-MODIFIED:20251113T205053Z
UID:455093-1765004400-1765022400@sflc.net
SUMMARY:Operation Love's Outreach
DESCRIPTION:On the first Saturday of each month (except July and September)\, we come together to provide groceries for families in need. Our amazing volunteers help unload and prepare the food distribution. Want to join the team? Visit: https://sflc.churchcenter.com/people/forms/708688 \nNotes:
URL:https://sflc.net/event/operation-loves-outreach-3/
CATEGORIES:PCO
END:VEVENT
BEGIN:VEVENT
DTSTART;TZID=America/Chicago:20251206T100000
DTEND;TZID=America/Chicago:20251206T120000
DTSTAMP:20260424T181857
CREATED:20251106T204353Z
LAST-MODIFIED:20251109T182702Z
UID:455206-1765015200-1765022400@sflc.net
SUMMARY:Sisterhood Christmas
DESCRIPTION:Join us for A Sisterhood Christmas on Saturday\, December 6 at 10 AM! Enjoy a full breakfast\, hot chocolate bar\, karaoke\, and games\, with worship by Native YTH and a special word from Pastor Maritza Ceballos. \nCost: $15 per person (purchase at the Connection Center)\nDress: Christmas pajamas\nBring: A pair of Christmas socks for the Sock Exchange Tree \nCome ready for fun\, fellowship\, and Christmas cheer! \n 
URL:https://sflc.net/event/sisterhood-christmas/
LOCATION:Jean Westlake Chapel\, 5700 Winner Rd\, Kansas City\, MO\, 64127\, United States
CATEGORIES:Ministry,SFLC Sisterhood,Special Events
ATTACH;FMTTYPE=image/jpeg:https://sflc.net/wp-content/uploads/2025/11/transform-1.jpeg
END:VEVENT
END:VCALENDAR