BEGIN:VCALENDAR
VERSION:2.0
PRODID:-//Sheffield Family Life Center - ECPv6.15.20//NONSGML v1.0//EN
CALSCALE:GREGORIAN
METHOD:PUBLISH
X-WR-CALNAME:Sheffield Family Life Center
X-ORIGINAL-URL:https://sflc.net
X-WR-CALDESC:Events for Sheffield Family Life Center
REFRESH-INTERVAL;VALUE=DURATION:PT1H
X-Robots-Tag:noindex
X-PUBLISHED-TTL:PT1H
BEGIN:VTIMEZONE
TZID:America/Chicago
BEGIN:DAYLIGHT
TZOFFSETFROM:-0600
TZOFFSETTO:-0500
TZNAME:CDT
DTSTART:20240310T080000
END:DAYLIGHT
BEGIN:STANDARD
TZOFFSETFROM:-0500
TZOFFSETTO:-0600
TZNAME:CST
DTSTART:20241103T070000
END:STANDARD
BEGIN:DAYLIGHT
TZOFFSETFROM:-0600
TZOFFSETTO:-0500
TZNAME:CDT
DTSTART:20250309T080000
END:DAYLIGHT
BEGIN:STANDARD
TZOFFSETFROM:-0500
TZOFFSETTO:-0600
TZNAME:CST
DTSTART:20251102T070000
END:STANDARD
BEGIN:DAYLIGHT
TZOFFSETFROM:-0600
TZOFFSETTO:-0500
TZNAME:CDT
DTSTART:20260308T080000
END:DAYLIGHT
BEGIN:STANDARD
TZOFFSETFROM:-0500
TZOFFSETTO:-0600
TZNAME:CST
DTSTART:20261101T070000
END:STANDARD
END:VTIMEZONE
BEGIN:VEVENT
DTSTART;TZID=America/Chicago:20251029T190000
DTEND;TZID=America/Chicago:20251029T203000
DTSTAMP:20260424T195226
CREATED:20250910T225431Z
LAST-MODIFIED:20250910T225431Z
UID:454965-1761764400-1761769800@sflc.net
SUMMARY:Wednesday Night Family Services
DESCRIPTION:Join us every Wednesday night as we gather as a church family to worship\, connect\, and grow in God’s Word. We have something for the entire family — Bible Study\, Kids\, Youth\, Young Adults\, and a Marriage class. \nNotes:
URL:https://sflc.net/event/wednesday-night-family-services-8/
CATEGORIES:PCO
END:VEVENT
BEGIN:VEVENT
DTSTART;TZID=America/Chicago:20251029T190000
DTEND;TZID=America/Chicago:20251029T203000
DTSTAMP:20260424T195226
CREATED:20250929T191456Z
LAST-MODIFIED:20251028T200910Z
UID:455090-1761764400-1761769800@sflc.net
SUMMARY:Trunk-or-Treat
DESCRIPTION:It’s time for our Trunk or Treat! \nDress up in your favorite Halloween costume and go from trunk to trunk to get treats while enjoying a family friendly environment for all ages.\nThis is a FREE event for our families and the KC community!\nIf you would like to sign up to register a vehicle to host a trunk\, please use the sign up link. \nQuestions? Email apritchard@sflc.net or call 816-241-4831 \nNotes: \nSIGN UP
URL:https://sflc.net/event/trunk-or-treat/
LOCATION:Main Campus – 5700 Winner Rd\, Kansas City\, missouri 64127
CATEGORIES:Special Events
ATTACH;FMTTYPE=image/png:https://sflc.net/wp-content/uploads/2025/09/trunk-or-treat-graphic.zip-4.png
END:VEVENT
END:VCALENDAR