BEGIN:VCALENDAR
VERSION:2.0
PRODID:-//Sheffield Family Life Center - ECPv6.15.20//NONSGML v1.0//EN
CALSCALE:GREGORIAN
METHOD:PUBLISH
X-WR-CALNAME:Sheffield Family Life Center
X-ORIGINAL-URL:https://sflc.net
X-WR-CALDESC:Events for Sheffield Family Life Center
REFRESH-INTERVAL;VALUE=DURATION:PT1H
X-Robots-Tag:noindex
X-PUBLISHED-TTL:PT1H
BEGIN:VTIMEZONE
TZID:America/Chicago
BEGIN:DAYLIGHT
TZOFFSETFROM:-0600
TZOFFSETTO:-0500
TZNAME:CDT
DTSTART:20240310T080000
END:DAYLIGHT
BEGIN:STANDARD
TZOFFSETFROM:-0500
TZOFFSETTO:-0600
TZNAME:CST
DTSTART:20241103T070000
END:STANDARD
BEGIN:DAYLIGHT
TZOFFSETFROM:-0600
TZOFFSETTO:-0500
TZNAME:CDT
DTSTART:20250309T080000
END:DAYLIGHT
BEGIN:STANDARD
TZOFFSETFROM:-0500
TZOFFSETTO:-0600
TZNAME:CST
DTSTART:20251102T070000
END:STANDARD
BEGIN:DAYLIGHT
TZOFFSETFROM:-0600
TZOFFSETTO:-0500
TZNAME:CDT
DTSTART:20260308T080000
END:DAYLIGHT
BEGIN:STANDARD
TZOFFSETFROM:-0500
TZOFFSETTO:-0600
TZNAME:CST
DTSTART:20261101T070000
END:STANDARD
END:VTIMEZONE
BEGIN:VEVENT
DTSTART;TZID=America/Chicago:20251024T183000
DTEND;TZID=America/Chicago:20251024T210000
DTSTAMP:20260424T213301
CREATED:20250910T231421Z
LAST-MODIFIED:20250910T231421Z
UID:454988-1761330600-1761339600@sflc.net
SUMMARY:A Woman After God's Own Heart Conference 2025
DESCRIPTION:A Woman After God’s Own Heart conference\, created by gospel music artist\, Lynda Randle\, is a two day\, annual conference event for women of all ages\, ethnicities\, socio-economic backgrounds and upbringings. The vision for the Woman After God’s Own Heart conference (WAGOH for short)\, was birthed in Lynda’s heart and spirit in 2002 and the Lord allowed it to come to fruition in 2008\, with its initial launch taking place in her hometown of Kansas City Missouri. Through music\, dance\, motivational speakers\, prayer\, and humor\, this conference has uplifted women around the country and internationally. \nGod is calling this conference to be a conference for the churched and unchurched alike; the visibly flawed and broken and those carrying invisible scars alike. A place where women from all walks of life feel welcomed\, embraced and loved by God and one other\, and can enjoy Biblical teaching\, fellowship\, laughter\, encouragement and community. \nThis year’s lineup includes Grammy Award Winning music group the Gaither Vocal Band\, speaker\, author and podcast host Chrystal Evans Hurst\, dynamic gospel music artist Debbie Winans Lowe\, speaker and CEO of Hope Center KC\, Marvin Daniels\, NBC The Voice season 12 winner\, Chris Blue\, and country gospel music artist\, Bradley Walker. Praise and worship led by Jacque DeShetler. Hosted by speaker\, author and gospel singer\, Lynda Randle\, and Co-hosted  by comedian and speaker\, Lisa Mills.
URL:https://sflc.net/event/a-woman-after-gods-own-heart-conference-2025/
LOCATION:Main Sanctuary\, 5700 Winner Road\, Kansas City\, MO\, 64127\, United States
CATEGORIES:Special Events
ATTACH;FMTTYPE=image/png:https://sflc.net/wp-content/uploads/2025/09/event_description_image_116817_1746064897_f7113.png
END:VEVENT
END:VCALENDAR